BEGIN:VCALENDAR
VERSION:2.0
PRODID:-//Friendship Force Cedar Rapids and Iowa City - ECPv5.1.5//NONSGML v1.0//EN
CALSCALE:GREGORIAN
METHOD:PUBLISH
X-WR-CALNAME:Friendship Force Cedar Rapids and Iowa City
X-ORIGINAL-URL:http://www.friendshipforcecr-ic.org
X-WR-CALDESC:Events for Friendship Force Cedar Rapids and Iowa City
BEGIN:VTIMEZONE
TZID:UTC
BEGIN:STANDARD
TZOFFSETFROM:+0000
TZOFFSETTO:+0000
TZNAME:UTC
DTSTART:20150101T000000
END:STANDARD
END:VTIMEZONE
BEGIN:VEVENT
DTSTART;TZID=UTC:20151115T170000
DTEND;TZID=UTC:20151115T200000
DTSTAMP:20260423T123910
CREATED:20150104T204940Z
LAST-MODIFIED:20151015T200254Z
UID:1145-1447606800-1447617600@www.friendshipforcecr-ic.org
SUMMARY:Annual Meeting
DESCRIPTION:Come help wrap-up 2015 with a relaxing evening with time to socialize with your fellow members\, enjoy great food and drink\, celebrate the past year\, and preview the coming year! \nSchedule:\n5:00 Social Hour with Open Cash Bar\n6:00 Welcome and Dinner\n7:00 Annual Meeting \nMeal:\nHerb crusted pork loin\nChicken marsala\nMixed green salad\nParty potatoes\nGreen bean almandine\nPasta salad\nApple crisp with ice cream dessert \nThe annual meeting will include election of 2016 officers. The slate of officers includes:\nPresident Mary Stull\nCo- President Elect Dean and Jean Thomas\nSecretary Carol and Jerry Burke\nTreasurer Stephanie Schulte \nMake your reservation today by contacting Cheryl or Dale Moore at 319-362-6252 or email moore-dale@imonmail.com.\nSend a check for $23 per person to:\nStephanie Schulte at PO Box 705\, Cedar Rapids\, IA 52406-0705 or bring it to the event. \n
URL:http://www.friendshipforcecr-ic.org/event/annual-meeting-2/
LOCATION:A Touch of Class\, 5977 Mount Vernon Road SE\, Cedar Rapids\, IA\, 52403\, United States
END:VEVENT
END:VCALENDAR