BEGIN:VCALENDAR
VERSION:2.0
PRODID:-//Friendship Force Cedar Rapids and Iowa City - ECPv5.1.5//NONSGML v1.0//EN
CALSCALE:GREGORIAN
METHOD:PUBLISH
X-WR-CALNAME:Friendship Force Cedar Rapids and Iowa City
X-ORIGINAL-URL:http://www.friendshipforcecr-ic.org
X-WR-CALDESC:Events for Friendship Force Cedar Rapids and Iowa City
BEGIN:VTIMEZONE
TZID:UTC
BEGIN:STANDARD
TZOFFSETFROM:+0000
TZOFFSETTO:+0000
TZNAME:UTC
DTSTART:20150101T000000
END:STANDARD
END:VTIMEZONE
BEGIN:VEVENT
DTSTART;TZID=UTC:20150302T183000
DTEND;TZID=UTC:20150302T203000
DTSTAMP:20260421T104330
CREATED:20150104T202007Z
LAST-MODIFIED:20150216T193858Z
UID:1132-1425321000-1425328200@www.friendshipforcecr-ic.org
SUMMARY:Board Meeting
DESCRIPTION:
URL:http://www.friendshipforcecr-ic.org/event/board-meeting-2/
LOCATION:Moore Home\, 3508 River Ridge Ct NE\, Cedar Rapids\, IA\, 52402\, United States
END:VEVENT
END:VCALENDAR