BEGIN:VCALENDAR
VERSION:2.0
PRODID:-//Friendship Force Cedar Rapids and Iowa City - ECPv5.1.5//NONSGML v1.0//EN
CALSCALE:GREGORIAN
METHOD:PUBLISH
X-WR-CALNAME:Friendship Force Cedar Rapids and Iowa City
X-ORIGINAL-URL:http://www.friendshipforcecr-ic.org
X-WR-CALDESC:Events for Friendship Force Cedar Rapids and Iowa City
BEGIN:VTIMEZONE
TZID:UTC
BEGIN:STANDARD
TZOFFSETFROM:+0000
TZOFFSETTO:+0000
TZNAME:UTC
DTSTART:20150101T000000
END:STANDARD
END:VTIMEZONE
BEGIN:VEVENT
DTSTART;TZID=UTC:20151207T080000
DTEND;TZID=UTC:20151207T170000
DTSTAMP:20260423T161030
CREATED:20151123T184642Z
LAST-MODIFIED:20151123T184642Z
UID:1466-1449475200-1449507600@www.friendshipforcecr-ic.org
SUMMARY:Board meeting
DESCRIPTION:The Board will meet at the Stull residence. Time TBD. \n
URL:http://www.friendshipforcecr-ic.org/event/board-meeting-9/
LOCATION:Stull Residence\, Cedar Rapids\, IA\, United States
END:VEVENT
END:VCALENDAR