BEGIN:VCALENDAR
VERSION:2.0
PRODID:-//Friendship Force Cedar Rapids and Iowa City - ECPv5.1.5//NONSGML v1.0//EN
CALSCALE:GREGORIAN
METHOD:PUBLISH
X-WR-CALNAME:Friendship Force Cedar Rapids and Iowa City
X-ORIGINAL-URL:http://www.friendshipforcecr-ic.org
X-WR-CALDESC:Events for Friendship Force Cedar Rapids and Iowa City
BEGIN:VTIMEZONE
TZID:UTC
BEGIN:STANDARD
TZOFFSETFROM:+0000
TZOFFSETTO:+0000
TZNAME:UTC
DTSTART:20210101T000000
END:STANDARD
END:VTIMEZONE
BEGIN:VEVENT
DTSTART;TZID=UTC:20210330T090000
DTEND;TZID=UTC:20210330T100000
DTSTAMP:20260423T052728
CREATED:20210303T172208Z
LAST-MODIFIED:20210303T172208Z
UID:2765-1617094800-1617098400@www.friendshipforcecr-ic.org
SUMMARY:Board Meeting via Zoom
DESCRIPTION:for more info contact Jerry Burke\, president. \n
URL:http://www.friendshipforcecr-ic.org/event/board-meeting-via-zoom/
LOCATION:Zoom
END:VEVENT
END:VCALENDAR