BEGIN:VCALENDAR
VERSION:2.0
PRODID:-//Friendship Force Cedar Rapids and Iowa City - ECPv5.1.5//NONSGML v1.0//EN
CALSCALE:GREGORIAN
METHOD:PUBLISH
X-WR-CALNAME:Friendship Force Cedar Rapids and Iowa City
X-ORIGINAL-URL:http://www.friendshipforcecr-ic.org
X-WR-CALDESC:Events for Friendship Force Cedar Rapids and Iowa City
BEGIN:VTIMEZONE
TZID:UTC
BEGIN:STANDARD
TZOFFSETFROM:+0000
TZOFFSETTO:+0000
TZNAME:UTC
DTSTART:20200101T000000
END:STANDARD
END:VTIMEZONE
BEGIN:VEVENT
DTSTART;TZID=UTC:20201206T160000
DTEND;TZID=UTC:20201206T173000
DTSTAMP:20260420T074459
CREATED:20201008T213959Z
LAST-MODIFIED:20201008T213959Z
UID:2660-1607270400-1607275800@www.friendshipforcecr-ic.org
SUMMARY:Cedar Rapids-Iowa City Club Annual Meeting
DESCRIPTION:Our annual meeting will be via Zoom. Join us for a speaker and club updates. \n
URL:http://www.friendshipforcecr-ic.org/event/cedar-rapids-iowa-city-club-annual-meeting/
LOCATION:Zoom
END:VEVENT
END:VCALENDAR