BEGIN:VCALENDAR
VERSION:2.0
PRODID:-//Friendship Force Cedar Rapids and Iowa City - ECPv5.1.5//NONSGML v1.0//EN
CALSCALE:GREGORIAN
METHOD:PUBLISH
X-WR-CALNAME:Friendship Force Cedar Rapids and Iowa City
X-ORIGINAL-URL:http://www.friendshipforcecr-ic.org
X-WR-CALDESC:Events for Friendship Force Cedar Rapids and Iowa City
BEGIN:VTIMEZONE
TZID:UTC
BEGIN:STANDARD
TZOFFSETFROM:+0000
TZOFFSETTO:+0000
TZNAME:UTC
DTSTART:20200101T000000
END:STANDARD
END:VTIMEZONE
BEGIN:VEVENT
DTSTART;TZID=UTC:20201230T160000
DTEND;TZID=UTC:20201230T180000
DTSTAMP:20260422T110618
CREATED:20201202T015154Z
LAST-MODIFIED:20201202T015217Z
UID:2679-1609344000-1609351200@www.friendshipforcecr-ic.org
SUMMARY:Club Holiday Zoom Cocktail Party
DESCRIPTION:Grab one of your favorite beverages and join the conversation. We’ll toast to surviving 2020 and look forward to a much better 2021. \n
URL:http://www.friendshipforcecr-ic.org/event/club-holiday-zoom-cocktail-party/
END:VEVENT
END:VCALENDAR