BEGIN:VCALENDAR
VERSION:2.0
PRODID:-//Friendship Force Cedar Rapids and Iowa City - ECPv5.1.5//NONSGML v1.0//EN
CALSCALE:GREGORIAN
METHOD:PUBLISH
X-WR-CALNAME:Friendship Force Cedar Rapids and Iowa City
X-ORIGINAL-URL:http://www.friendshipforcecr-ic.org
X-WR-CALDESC:Events for Friendship Force Cedar Rapids and Iowa City
BEGIN:VTIMEZONE
TZID:UTC
BEGIN:STANDARD
TZOFFSETFROM:+0000
TZOFFSETTO:+0000
TZNAME:UTC
DTSTART:20200101T000000
END:STANDARD
END:VTIMEZONE
BEGIN:VEVENT
DTSTART;TZID=UTC:20201023T190000
DTEND;TZID=UTC:20201023T200000
DTSTAMP:20260420T022638
CREATED:20201008T213703Z
LAST-MODIFIED:20201008T213703Z
UID:2656-1603479600-1603483200@www.friendshipforcecr-ic.org
SUMMARY:Friendship Force Zoom Trivia
DESCRIPTION:Test out your trivia skills and learn some obscure data. Join us for a fun evening with club members. Contact Judy Miner\, jjbm526@aol.com\, to get a Zoom invite. \n
URL:http://www.friendshipforcecr-ic.org/event/friendship-force-zoom-trivia/
LOCATION:Zoom
END:VEVENT
END:VCALENDAR