BEGIN:VCALENDAR
VERSION:2.0
PRODID:-//Friendship Force Cedar Rapids and Iowa City - ECPv5.1.5//NONSGML v1.0//EN
CALSCALE:GREGORIAN
METHOD:PUBLISH
X-WR-CALNAME:Friendship Force Cedar Rapids and Iowa City
X-ORIGINAL-URL:http://www.friendshipforcecr-ic.org
X-WR-CALDESC:Events for Friendship Force Cedar Rapids and Iowa City
BEGIN:VTIMEZONE
TZID:UTC
BEGIN:STANDARD
TZOFFSETFROM:+0000
TZOFFSETTO:+0000
TZNAME:UTC
DTSTART:20140101T000000
END:STANDARD
END:VTIMEZONE
BEGIN:VEVENT
DTSTART;TZID=UTC:20140713T143000
DTEND;TZID=UTC:20140713T170000
DTSTAMP:20260422T112823
CREATED:20140331T013027Z
LAST-MODIFIED:20140331T013027Z
UID:450-1405261800-1405270800@www.friendshipforcecr-ic.org
SUMMARY:General Meeting
DESCRIPTION:General Meeting at 2:30 pm at Marion Heritage Center \n
URL:http://www.friendshipforcecr-ic.org/event/general-meeting-2/
LOCATION:Marion Heritage Center\, 590 10th St\, Marion\, IA\, 52302\, United States
END:VEVENT
END:VCALENDAR