BEGIN:VCALENDAR
VERSION:2.0
PRODID:-//Friendship Force Cedar Rapids and Iowa City - ECPv5.1.5//NONSGML v1.0//EN
CALSCALE:GREGORIAN
METHOD:PUBLISH
X-WR-CALNAME:Friendship Force Cedar Rapids and Iowa City
X-ORIGINAL-URL:http://www.friendshipforcecr-ic.org
X-WR-CALDESC:Events for Friendship Force Cedar Rapids and Iowa City
BEGIN:VTIMEZONE
TZID:UTC
BEGIN:STANDARD
TZOFFSETFROM:+0000
TZOFFSETTO:+0000
TZNAME:UTC
DTSTART:20160101T000000
END:STANDARD
END:VTIMEZONE
BEGIN:VEVENT
DTSTART;TZID=UTC:20160306T130000
DTEND;TZID=UTC:20160306T150000
DTSTAMP:20260423T223435
CREATED:20151215T204817Z
LAST-MODIFIED:20160105T170119Z
UID:1475-1457269200-1457276400@www.friendshipforcecr-ic.org
SUMMARY:General Meeting
DESCRIPTION:Please join us for a potluck and celebration of International Friendship Day at Shueyville United Methodist Church. \n
URL:http://www.friendshipforcecr-ic.org/event/general-meeting-7/
LOCATION:Shueyville United Methodist Church\, 1195 Steeple Lane Northeast\, Shueyville\, IA\, 52238\, United States
END:VEVENT
END:VCALENDAR