BEGIN:VCALENDAR
VERSION:2.0
PRODID:-//Friendship Force Cedar Rapids and Iowa City - ECPv5.1.5//NONSGML v1.0//EN
CALSCALE:GREGORIAN
METHOD:PUBLISH
X-WR-CALNAME:Friendship Force Cedar Rapids and Iowa City
X-ORIGINAL-URL:http://www.friendshipforcecr-ic.org
X-WR-CALDESC:Events for Friendship Force Cedar Rapids and Iowa City
BEGIN:VTIMEZONE
TZID:UTC
BEGIN:STANDARD
TZOFFSETFROM:+0000
TZOFFSETTO:+0000
TZNAME:UTC
DTSTART:20140101T000000
END:STANDARD
END:VTIMEZONE
BEGIN:VEVENT
DTSTART;TZID=UTC:20140518T143000
DTEND;TZID=UTC:20140518T170000
DTSTAMP:20260422T155526
CREATED:20140331T010725Z
LAST-MODIFIED:20140331T010816Z
UID:447-1400423400-1400432400@www.friendshipforcecr-ic.org
SUMMARY:General Meeting
DESCRIPTION:General Meeting with Mid-Willamette Valley\, Oregon ambassadors at 2:30 pm at Wickiup Hill Learning Center \n
URL:http://www.friendshipforcecr-ic.org/event/general-meeting/
LOCATION:Wickiup Hill Learning Center\, 10260 Morris Hills Rd\, Toddville\, IA\, 52341\, United States
END:VEVENT
END:VCALENDAR