BEGIN:VCALENDAR
VERSION:2.0
PRODID:-//Friendship Force Cedar Rapids and Iowa City - ECPv5.1.5//NONSGML v1.0//EN
CALSCALE:GREGORIAN
METHOD:PUBLISH
X-WR-CALNAME:Friendship Force Cedar Rapids and Iowa City
X-ORIGINAL-URL:http://www.friendshipforcecr-ic.org
X-WR-CALDESC:Events for Friendship Force Cedar Rapids and Iowa City
BEGIN:VTIMEZONE
TZID:UTC
BEGIN:STANDARD
TZOFFSETFROM:+0000
TZOFFSETTO:+0000
TZNAME:UTC
DTSTART:20140101T000000
END:STANDARD
END:VTIMEZONE
BEGIN:VEVENT
DTSTART;TZID=UTC:20140816T120000
DTEND;TZID=UTC:20140816T140000
DTSTAMP:20260422T063537
CREATED:20140702T195152Z
LAST-MODIFIED:20140702T195242Z
UID:715-1408190400-1408197600@www.friendshipforcecr-ic.org
SUMMARY:Host Lunch for Central Iowa's Theme Exchange
DESCRIPTION:The Central Iowa Club is bringing an journey to our town for a Cedar Rapids Day. This is an arts and agriculture themed journey. Our club is hosting a lunch for them. More details to come. \n
URL:http://www.friendshipforcecr-ic.org/event/host-lunch-for-central-iowas-theme-journey/
LOCATION:T.B.D.
END:VEVENT
END:VCALENDAR