BEGIN:VCALENDAR
VERSION:2.0
PRODID:-//Friendship Force Cedar Rapids and Iowa City - ECPv5.1.5//NONSGML v1.0//EN
CALSCALE:GREGORIAN
METHOD:PUBLISH
X-WR-CALNAME:Friendship Force Cedar Rapids and Iowa City
X-ORIGINAL-URL:http://www.friendshipforcecr-ic.org
X-WR-CALDESC:Events for Friendship Force Cedar Rapids and Iowa City
BEGIN:VTIMEZONE
TZID:UTC
BEGIN:STANDARD
TZOFFSETFROM:+0000
TZOFFSETTO:+0000
TZNAME:UTC
DTSTART:20180101T000000
END:STANDARD
END:VTIMEZONE
BEGIN:VEVENT
DTSTART;TZID=UTC:20180613T080000
DTEND;TZID=UTC:20180619T170000
DTSTAMP:20260422T123151
CREATED:20180111T165110Z
LAST-MODIFIED:20180308T211358Z
UID:1955-1528876800-1529427600@www.friendshipforcecr-ic.org
SUMMARY:Incoming Journey from Albuquerque\, NM
DESCRIPTION:This is an incoming domestic journey with 11 ambassadors from Albuquerque. On Saturday night\, June 16\, all members and guests are welcome to join the ambassadors and hosts at the National Motorcycle Museum for dinner and a tour. Please contact Host Coordinator\, Audrey Bradford at 319-365-5746. This journey will be opened to add ambassadors from other clubs\, so contact friends and family to join in the fun! \n
URL:http://www.friendshipforcecr-ic.org/event/incoming-journey-from-albuquerque-nm/
END:VEVENT
END:VCALENDAR