BEGIN:VCALENDAR
VERSION:2.0
PRODID:-//Friendship Force Cedar Rapids and Iowa City - ECPv5.1.5//NONSGML v1.0//EN
CALSCALE:GREGORIAN
METHOD:PUBLISH
X-WR-CALNAME:Friendship Force Cedar Rapids and Iowa City
X-ORIGINAL-URL:http://www.friendshipforcecr-ic.org
X-WR-CALDESC:Events for Friendship Force Cedar Rapids and Iowa City
BEGIN:VTIMEZONE
TZID:UTC
BEGIN:STANDARD
TZOFFSETFROM:+0000
TZOFFSETTO:+0000
TZNAME:UTC
DTSTART:20140101T000000
END:STANDARD
END:VTIMEZONE
BEGIN:VEVENT
DTSTART;VALUE=DATE:20140514
DTEND;VALUE=DATE:20140522
DTSTAMP:20260422T191420
CREATED:20140331T010435Z
LAST-MODIFIED:20140331T010435Z
UID:444-1400025600-1400716799@www.friendshipforcecr-ic.org
SUMMARY:Incoming Mid-Willamette Valley Exchange
DESCRIPTION:Aubrey Bradford is the Exchange Director \n
URL:http://www.friendshipforcecr-ic.org/event/incoming-mid-willamette-valley-journey/
END:VEVENT
END:VCALENDAR