BEGIN:VCALENDAR
VERSION:2.0
PRODID:-//Friendship Force Cedar Rapids and Iowa City - ECPv5.1.5//NONSGML v1.0//EN
CALSCALE:GREGORIAN
METHOD:PUBLISH
X-WR-CALNAME:Friendship Force Cedar Rapids and Iowa City
X-ORIGINAL-URL:http://www.friendshipforcecr-ic.org
X-WR-CALDESC:Events for Friendship Force Cedar Rapids and Iowa City
BEGIN:VTIMEZONE
TZID:UTC
BEGIN:STANDARD
TZOFFSETFROM:+0000
TZOFFSETTO:+0000
TZNAME:UTC
DTSTART:20210101T000000
END:STANDARD
END:VTIMEZONE
BEGIN:VEVENT
DTSTART;TZID=UTC:20210217T170000
DTEND;TZID=UTC:20210217T183000
DTSTAMP:20260422T173733
CREATED:20210210T161240Z
LAST-MODIFIED:20210210T161240Z
UID:2750-1613581200-1613586600@www.friendshipforcecr-ic.org
SUMMARY:Kosovo Independence Day Celebration via Zoom
DESCRIPTION:Join a Zoom reception and presentations to celebrate the 13th anniversary of the Independence of Kosovo. \nThe celebration will include an opportunity for Iowa cities with Sister City relationships with communities in Kosovo to share information regarding plans and activities and hear from guest speakers including: Kosovo Consulate General\, Artan Durakul; Kosovar Foreign Minister\, General Timothy Orr; and Kosovar students studying at Des Moines Area Community College (DMACC) RSVP by Tuesday\, February 12\, 2021 to: Kim Heidemann\, kim.heidemann@rks-gov.net or 515 (515) 875-4944 \n
URL:http://www.friendshipforcecr-ic.org/event/kosovo-independence-day-celebration-via-zoom/
LOCATION:Zoom
END:VEVENT
END:VCALENDAR