BEGIN:VCALENDAR
VERSION:2.0
PRODID:-//Friendship Force Cedar Rapids and Iowa City - ECPv5.1.5//NONSGML v1.0//EN
CALSCALE:GREGORIAN
METHOD:PUBLISH
X-WR-CALNAME:Friendship Force Cedar Rapids and Iowa City
X-ORIGINAL-URL:http://www.friendshipforcecr-ic.org
X-WR-CALDESC:Events for Friendship Force Cedar Rapids and Iowa City
BEGIN:VTIMEZONE
TZID:UTC
BEGIN:STANDARD
TZOFFSETFROM:+0000
TZOFFSETTO:+0000
TZNAME:UTC
DTSTART:20180101T000000
END:STANDARD
END:VTIMEZONE
BEGIN:VEVENT
DTSTART;TZID=UTC:20180724T173000
DTEND;TZID=UTC:20180724T190000
DTSTAMP:20260420T045827
CREATED:20180703T171909Z
LAST-MODIFIED:20180703T171909Z
UID:2208-1532453400-1532458800@www.friendshipforcecr-ic.org
SUMMARY:L.E.O.
DESCRIPTION:Come join your Friendship Force friends for a L.E.O. on Tuesday July 24th at 5:30PM at Bulicek’s Landing at 306 Franklin Street in Delhi.\nBring a friend to show them the fun and adventure of joining Friendship Force. Please RSVP to Shirley Rosencrans by July 16 at 319-462-4132. \n
URL:http://www.friendshipforcecr-ic.org/event/l-e-o-2/
LOCATION:Bulicek’s Landing\, 306 Franklin Street\, Delhi\, IA\, United States
END:VEVENT
END:VCALENDAR