BEGIN:VCALENDAR
VERSION:2.0
PRODID:-//Friendship Force Cedar Rapids and Iowa City - ECPv5.1.5//NONSGML v1.0//EN
CALSCALE:GREGORIAN
METHOD:PUBLISH
X-WR-CALNAME:Friendship Force Cedar Rapids and Iowa City
X-ORIGINAL-URL:http://www.friendshipforcecr-ic.org
X-WR-CALDESC:Events for Friendship Force Cedar Rapids and Iowa City
BEGIN:VTIMEZONE
TZID:UTC
BEGIN:STANDARD
TZOFFSETFROM:+0000
TZOFFSETTO:+0000
TZNAME:UTC
DTSTART:20150101T000000
END:STANDARD
END:VTIMEZONE
BEGIN:VEVENT
DTSTART;TZID=UTC:20151007T173000
DTEND;TZID=UTC:20151007T193000
DTSTAMP:20260423T110443
CREATED:20150818T191414Z
LAST-MODIFIED:20150818T191414Z
UID:1357-1444239000-1444246200@www.friendshipforcecr-ic.org
SUMMARY:LEO
DESCRIPTION:Join us for good food and friendship at our next LEO. Emil’s Hideaway is located behind Taco Bell on First Avenue\, next to Home Depot. Make reservations with Nancy or Stephen Miller at 319-393-3580 before Sunday\, October 4th. Emil’s offers Happy Hour from 3-6 pm Monday-Friday\, with 1/2 price appetizers\, draft beer specials\, $2.00 off signature drinks\, $2.00 domestic bottles and $3.00 import/premium bottles. \n
URL:http://www.friendshipforcecr-ic.org/event/leo/
LOCATION:Emil’s Hideaway\, 222 Glenbrook Drive SE\, Cedar Rapids\, IA\, 52403\, United States
END:VEVENT
END:VCALENDAR