BEGIN:VCALENDAR
VERSION:2.0
PRODID:-//Friendship Force Cedar Rapids and Iowa City - ECPv5.1.5//NONSGML v1.0//EN
CALSCALE:GREGORIAN
METHOD:PUBLISH
X-WR-CALNAME:Friendship Force Cedar Rapids and Iowa City
X-ORIGINAL-URL:http://www.friendshipforcecr-ic.org
X-WR-CALDESC:Events for Friendship Force Cedar Rapids and Iowa City
BEGIN:VTIMEZONE
TZID:UTC
BEGIN:STANDARD
TZOFFSETFROM:+0000
TZOFFSETTO:+0000
TZNAME:UTC
DTSTART:20150101T000000
END:STANDARD
END:VTIMEZONE
BEGIN:VEVENT
DTSTART;VALUE=DATE:20150820
DTEND;VALUE=DATE:20150821
DTSTAMP:20260423T024151
CREATED:20150104T204326Z
LAST-MODIFIED:20150623T145621Z
UID:1140-1440028800-1440115199@www.friendshipforcecr-ic.org
SUMMARY:Lets Eat Out
DESCRIPTION:Take a trip to the State Fair with Friendship Force! Cost is $40/person and includes motor coach transportation directly to the fair grounds and admission to the fair. Please contact Esther Hudson at 319-393-4839 before July 1st\, if you are interested in attending. \n
URL:http://www.friendshipforcecr-ic.org/event/lets-eat-out-2/
LOCATION:Iowa State Fair\, 3000 East Grand Avenue\, Des Moines\, IA\, 50317\, United States
END:VEVENT
END:VCALENDAR