BEGIN:VCALENDAR
VERSION:2.0
PRODID:-//Friendship Force Cedar Rapids and Iowa City - ECPv5.1.5//NONSGML v1.0//EN
CALSCALE:GREGORIAN
METHOD:PUBLISH
X-WR-CALNAME:Friendship Force Cedar Rapids and Iowa City
X-ORIGINAL-URL:http://www.friendshipforcecr-ic.org
X-WR-CALDESC:Events for Friendship Force Cedar Rapids and Iowa City
BEGIN:VTIMEZONE
TZID:UTC
BEGIN:STANDARD
TZOFFSETFROM:+0000
TZOFFSETTO:+0000
TZNAME:UTC
DTSTART:20150101T000000
END:STANDARD
END:VTIMEZONE
BEGIN:VEVENT
DTSTART;TZID=UTC:20150730T180000
DTEND;TZID=UTC:20150730T200000
DTSTAMP:20260422T195008
CREATED:20150623T150658Z
LAST-MODIFIED:20150710T204330Z
UID:1311-1438279200-1438286400@www.friendshipforcecr-ic.org
SUMMARY:Let's Eat Out
DESCRIPTION:Join us for good food and friendship! Contact Cheryl or Dale Moore at 319-362-6252 or mooredale@imonmail.com to make your reservation. \n
URL:http://www.friendshipforcecr-ic.org/event/lets-eat-out-4/
LOCATION:Zeppelin’s Bar & Grill\, 5300 Edgewood Road\, Suite 500\, Cedar Rapids\, IA\, United States
END:VEVENT
END:VCALENDAR