BEGIN:VCALENDAR
VERSION:2.0
PRODID:-//Friendship Force Cedar Rapids and Iowa City - ECPv5.1.5//NONSGML v1.0//EN
CALSCALE:GREGORIAN
METHOD:PUBLISH
X-WR-CALNAME:Friendship Force Cedar Rapids and Iowa City
X-ORIGINAL-URL:http://www.friendshipforcecr-ic.org
X-WR-CALDESC:Events for Friendship Force Cedar Rapids and Iowa City
BEGIN:VTIMEZONE
TZID:UTC
BEGIN:STANDARD
TZOFFSETFROM:+0000
TZOFFSETTO:+0000
TZNAME:UTC
DTSTART:20160101T000000
END:STANDARD
END:VTIMEZONE
BEGIN:VEVENT
DTSTART;TZID=UTC:20160211T180000
DTEND;TZID=UTC:20160211T200000
DTSTAMP:20260423T205055
CREATED:20160119T192353Z
LAST-MODIFIED:20160208T174249Z
UID:1520-1455213600-1455220800@www.friendshipforcecr-ic.org
SUMMARY:Let's Eat Out
DESCRIPTION:Join us for dinner and good conversation at Mandarin Spice on Collins Road near Michael’s. Mary Stull is the host. RSVP by February 8 by emailing Mary at mcdstull@aol.com. \n
URL:http://www.friendshipforcecr-ic.org/event/lets-eat-out-5/
LOCATION:Mandarin Spice Asian Grill\, 1412 Twixt Town Rd\, Marion\, IA\, 52302\, United States
END:VEVENT
END:VCALENDAR