BEGIN:VCALENDAR
VERSION:2.0
PRODID:-//Friendship Force Cedar Rapids and Iowa City - ECPv5.1.5//NONSGML v1.0//EN
CALSCALE:GREGORIAN
METHOD:PUBLISH
X-WR-CALNAME:Friendship Force Cedar Rapids and Iowa City
X-ORIGINAL-URL:http://www.friendshipforcecr-ic.org
X-WR-CALDESC:Events for Friendship Force Cedar Rapids and Iowa City
BEGIN:VTIMEZONE
TZID:UTC
BEGIN:STANDARD
TZOFFSETFROM:+0000
TZOFFSETTO:+0000
TZNAME:UTC
DTSTART:20180101T000000
END:STANDARD
END:VTIMEZONE
BEGIN:VEVENT
DTSTART;TZID=UTC:20180314T173000
DTEND;TZID=UTC:20180314T190000
DTSTAMP:20260423T000420
CREATED:20180208T214217Z
LAST-MODIFIED:20180308T210850Z
UID:2083-1521048600-1521054000@www.friendshipforcecr-ic.org
SUMMARY:Let's Eat Out
DESCRIPTION:Ready for a taste of southwest flavors and interesting conversation? The next Let’s Eat Out (LEO) will be Wednesday\, March 14 at 5:30 pm at El Paraiso Mexican Bar & Grill. The restaurant is located in the southwest corner of Westdale Mall\, 2730 Edgewood Road SW. It’s across the parking lot from Younkers. You can order off the menu and visit with friends. RSVP by Sunday\, March 11th to Mary Stull\, 319-393-6254\, mcdstull@aol.com. \n
URL:http://www.friendshipforcecr-ic.org/event/lets-eat-out-8/
LOCATION:El Paraiso Mexican Bar and Grill\, 2730 Edgewood Rd SW\, Cedar Rapids\, IA\, 52404\, United States
END:VEVENT
END:VCALENDAR