BEGIN:VCALENDAR
VERSION:2.0
PRODID:-//Friendship Force Cedar Rapids and Iowa City - ECPv5.1.5//NONSGML v1.0//EN
CALSCALE:GREGORIAN
METHOD:PUBLISH
X-WR-CALNAME:Friendship Force Cedar Rapids and Iowa City
X-ORIGINAL-URL:http://www.friendshipforcecr-ic.org
X-WR-CALDESC:Events for Friendship Force Cedar Rapids and Iowa City
BEGIN:VTIMEZONE
TZID:UTC
BEGIN:STANDARD
TZOFFSETFROM:+0000
TZOFFSETTO:+0000
TZNAME:UTC
DTSTART:20160101T000000
END:STANDARD
END:VTIMEZONE
BEGIN:VEVENT
DTSTART;TZID=UTC:20160504T170000
DTEND;TZID=UTC:20160504T200000
DTSTAMP:20260424T045238
CREATED:20160411T182756Z
LAST-MODIFIED:20160411T182756Z
UID:1562-1462381200-1462392000@www.friendshipforcecr-ic.org
SUMMARY:Let's Eat Out (L.E.O.)
DESCRIPTION:You are invited to the Daly Creek Winery & Bistro for a wine tasting from 5-6 p.m. and dinner at 6 p.m. We will be dining in a room above the wine bar. Daly Creek specializes in house-made salads\, soups\, pasta and desserts\, plus a special entree in the evening. James and Michael Langer founded the restaurant in honor of their grandfather\, Philip Daly\, who purchased Jones County farmland during the Civil War. \nPlease RSVP to Jean or Dean Thomas at 319-830-5091 or jeanthomas521@gmail.com by April 30th.  \n
URL:http://www.friendshipforcecr-ic.org/event/lets-eat-out-l-e-o-2/
LOCATION:Daly Creek Winery & Bistro\, 106 N. Ford Street\, Anamosa\, IA\, 52205\, United States
END:VEVENT
END:VCALENDAR