BEGIN:VCALENDAR
VERSION:2.0
PRODID:-//Friendship Force Cedar Rapids and Iowa City - ECPv5.1.5//NONSGML v1.0//EN
CALSCALE:GREGORIAN
METHOD:PUBLISH
X-WR-CALNAME:Friendship Force Cedar Rapids and Iowa City
X-ORIGINAL-URL:http://www.friendshipforcecr-ic.org
X-WR-CALDESC:Events for Friendship Force Cedar Rapids and Iowa City
BEGIN:VTIMEZONE
TZID:UTC
BEGIN:STANDARD
TZOFFSETFROM:+0000
TZOFFSETTO:+0000
TZNAME:UTC
DTSTART:20140101T000000
END:STANDARD
END:VTIMEZONE
BEGIN:VEVENT
DTSTART;TZID=UTC:20140410T180000
DTEND;TZID=UTC:20140410T200000
DTSTAMP:20260422T223936
CREATED:20140331T010232Z
LAST-MODIFIED:20140331T010232Z
UID:440-1397152800-1397160000@www.friendshipforcecr-ic.org
SUMMARY:Let's Eat Out @ Whitey's Bar & Grill
DESCRIPTION:L.E.O. at 5:30 p.m. at Whitey’s Bar & Grill in Lisbon. RSVP to Shirley Rosencrans at sarosencrans@yahoo.com. \n
URL:http://www.friendshipforcecr-ic.org/event/lets-eat-out-whiteys-bar-grill/
LOCATION:Whitey’s Bar & Grill\, 125 US Highway 30\, Lisbon\, IA\, 52253\, United States
END:VEVENT
END:VCALENDAR