BEGIN:VCALENDAR
VERSION:2.0
PRODID:-//Friendship Force Cedar Rapids and Iowa City - ECPv5.1.5//NONSGML v1.0//EN
CALSCALE:GREGORIAN
METHOD:PUBLISH
X-WR-CALNAME:Friendship Force Cedar Rapids and Iowa City
X-ORIGINAL-URL:http://www.friendshipforcecr-ic.org
X-WR-CALDESC:Events for Friendship Force Cedar Rapids and Iowa City
BEGIN:VTIMEZONE
TZID:UTC
BEGIN:STANDARD
TZOFFSETFROM:+0000
TZOFFSETTO:+0000
TZNAME:UTC
DTSTART:20150101T000000
END:STANDARD
END:VTIMEZONE
BEGIN:VEVENT
DTSTART;TZID=UTC:20150224T180000
DTEND;TZID=UTC:20150224T200000
DTSTAMP:20260421T120734
CREATED:20150104T201817Z
LAST-MODIFIED:20150201T230009Z
UID:1130-1424800800-1424808000@www.friendshipforcecr-ic.org
SUMMARY:Let's Eat Out
DESCRIPTION:Hosted by Jean and Dean Thomas at Louie’s Scoreboard in Marion. This event will include guests from Moldova. Please reserve your spot by calling Jean and Dean at 319-830-5092 or emailing jeanthomas521@gmail.com. \n
URL:http://www.friendshipforcecr-ic.org/event/lets-eat-out/
LOCATION:Louie’s Scoreboard\, 740 10th Street\, Marion\, IA\, 52302\, United States
END:VEVENT
END:VCALENDAR