BEGIN:VCALENDAR
VERSION:2.0
PRODID:-//Friendship Force Cedar Rapids and Iowa City - ECPv5.1.5//NONSGML v1.0//EN
CALSCALE:GREGORIAN
METHOD:PUBLISH
X-WR-CALNAME:Friendship Force Cedar Rapids and Iowa City
X-ORIGINAL-URL:http://www.friendshipforcecr-ic.org
X-WR-CALDESC:Events for Friendship Force Cedar Rapids and Iowa City
BEGIN:VTIMEZONE
TZID:UTC
BEGIN:STANDARD
TZOFFSETFROM:+0000
TZOFFSETTO:+0000
TZNAME:UTC
DTSTART:20150101T000000
END:STANDARD
END:VTIMEZONE
BEGIN:VEVENT
DTSTART;VALUE=DATE:20150624
DTEND;VALUE=DATE:20150625
DTSTAMP:20260422T093836
CREATED:20150614T023622Z
LAST-MODIFIED:20150614T024124Z
UID:1283-1435104000-1435190399@www.friendshipforcecr-ic.org
SUMMARY:Matchstick Museum Tour/Mesquaki Settlement
DESCRIPTION:Tour of the Matchstick Museum and then head to the Mesquaki settlement to learn about Mesquaki Indian History and eat Tressa’s delicious tacos\n\n\n\nLunch at Gladbrook\n$8.00\nPer Person\n\n\nMatchstick Museum\n$5.00\nPer Person\n\n\nTaco Supper\n$4.00\nPer Person\n\n\n\n\n
URL:http://www.friendshipforcecr-ic.org/event/matchstick-museum-tourmesquaki-settlement/
LOCATION:Matchstick Museum\, 319 2nd St\, Gladbrook\, IA\, 50635\, United States
END:VEVENT
END:VCALENDAR