BEGIN:VCALENDAR
VERSION:2.0
PRODID:-//Friendship Force Cedar Rapids and Iowa City - ECPv5.1.5//NONSGML v1.0//EN
CALSCALE:GREGORIAN
METHOD:PUBLISH
X-WR-CALNAME:Friendship Force Cedar Rapids and Iowa City
X-ORIGINAL-URL:http://www.friendshipforcecr-ic.org
X-WR-CALDESC:Events for Friendship Force Cedar Rapids and Iowa City
BEGIN:VTIMEZONE
TZID:UTC
BEGIN:STANDARD
TZOFFSETFROM:+0000
TZOFFSETTO:+0000
TZNAME:UTC
DTSTART:20210101T000000
END:STANDARD
END:VTIMEZONE
BEGIN:VEVENT
DTSTART;TZID=UTC:20210317T190000
DTEND;TZID=UTC:20210317T200000
DTSTAMP:20260423T001503
CREATED:20210228T201212Z
LAST-MODIFIED:20210228T201231Z
UID:2753-1616007600-1616011200@www.friendshipforcecr-ic.org
SUMMARY:Midwest Region Trivia via Zoom
DESCRIPTION:HELLO TRIVIA ENTHUSIAST!!!! \nAn exciting event is being planned for our Friendship Force Region. The Milwaukee club is planning a Midwest Region Club trivia night via Zoom on March 17 at 7 pm. Members from any Midwest club can join with a limit of 100 people. After everyone has signed on to the Zoom meeting\, individuals will be placed on a team in a breakout room. You’ll get to meet members from other clubs. If interested contact club president\, Jerry Burke\, jbcburke@yahoo.com  563-929-0190. \n
URL:http://www.friendshipforcecr-ic.org/event/midwest-region-trivia-via-zoom/
LOCATION:Zoom
END:VEVENT
END:VCALENDAR