BEGIN:VCALENDAR
VERSION:2.0
PRODID:-//Friendship Force Cedar Rapids and Iowa City - ECPv5.1.5//NONSGML v1.0//EN
CALSCALE:GREGORIAN
METHOD:PUBLISH
X-WR-CALNAME:Friendship Force Cedar Rapids and Iowa City
X-ORIGINAL-URL:http://www.friendshipforcecr-ic.org
X-WR-CALDESC:Events for Friendship Force Cedar Rapids and Iowa City
BEGIN:VTIMEZONE
TZID:UTC
BEGIN:STANDARD
TZOFFSETFROM:+0000
TZOFFSETTO:+0000
TZNAME:UTC
DTSTART:20140101T000000
END:STANDARD
END:VTIMEZONE
BEGIN:VEVENT
DTSTART;TZID=UTC:20140501T080000
DTEND;TZID=UTC:20140504T170000
DTSTAMP:20260422T222240
CREATED:20140331T010324Z
LAST-MODIFIED:20140331T010324Z
UID:442-1398931200-1399222800@www.friendshipforcecr-ic.org
SUMMARY:Midwest Regional Conference
DESCRIPTION:
URL:http://www.friendshipforcecr-ic.org/event/midwest-regional-conference-2/
LOCATION:Unnamed Venue\, Milwaukee\, WI\, United States
END:VEVENT
END:VCALENDAR