BEGIN:VCALENDAR
VERSION:2.0
PRODID:-//Friendship Force Cedar Rapids and Iowa City - ECPv5.1.5//NONSGML v1.0//EN
CALSCALE:GREGORIAN
METHOD:PUBLISH
X-WR-CALNAME:Friendship Force Cedar Rapids and Iowa City
X-ORIGINAL-URL:http://www.friendshipforcecr-ic.org
X-WR-CALDESC:Events for Friendship Force Cedar Rapids and Iowa City
BEGIN:VTIMEZONE
TZID:UTC
BEGIN:STANDARD
TZOFFSETFROM:+0000
TZOFFSETTO:+0000
TZNAME:UTC
DTSTART:20160101T000000
END:STANDARD
END:VTIMEZONE
BEGIN:VEVENT
DTSTART;TZID=UTC:20160428T173000
DTEND;TZID=UTC:20160501T110000
DTSTAMP:20260424T032144
CREATED:20150818T192128Z
LAST-MODIFIED:20160208T175122Z
UID:1359-1461864600-1462100400@www.friendshipforcecr-ic.org
SUMMARY:Midwest Regional Conference
DESCRIPTION:Mark your calendar for the Midwest-Great Lakes Regional Conference\, April 28-May 1. The Quad Cities club is the official host and will be welcoming members from 20 clubs in nine states. The theme is Building Bridges with Friendship. All members are encouraged to attend. \nThe Conference starts at 5:30 on April 28th with a nice reception. Most of the 29th and 30th will be workshops and presentations. There will also be a President’s Meeting on the morning of May 1st. The Host Club will be providing activities Friday and Saturday. \nEarly registration fee is $140 per person if postmarked by March 21\, 2016. It will be $150 per person if postmarked after March 21. This fee includes hospitality meet and greet reception on Thursday evening 5:30-8:00 pm\, two days of conference (including FFI’s new CEO and President Jeremy Snook)\, snacks during the break-out sessions on Friday and Saturday\, lunches on Friday and Saturday\, dinner with evening entertainment on Friday at the hotel\, and closing banquet with entertainment at the Tanglewood Hills Pavilion on Saturday evening. \nThe conference will be held at the brand-new Holiday Inn and Suites\, 4215 Elmore Avenue\, which has easy access to I-80. Please call 563 344-2900 to make your reservations at the conference venue. Ask for the Friendship Force conference rate of $109 plus tax. \nQuestions? Ask Harry Frick\, 563-355-1050\, harry267@msn.com \nEldon Greiman\, 563-289-3132\, ejgreiman@gmail.com \n
URL:http://www.friendshipforcecr-ic.org/event/midwest-regional-conference/
LOCATION:Holiday Inn & Suites\, 4215 Elmore Avenue\, Davenport\, IA\, United States
END:VEVENT
END:VCALENDAR