BEGIN:VCALENDAR
VERSION:2.0
PRODID:-//Friendship Force Cedar Rapids and Iowa City - ECPv5.1.5//NONSGML v1.0//EN
CALSCALE:GREGORIAN
METHOD:PUBLISH
X-WR-CALNAME:Friendship Force Cedar Rapids and Iowa City
X-ORIGINAL-URL:http://www.friendshipforcecr-ic.org
X-WR-CALDESC:Events for Friendship Force Cedar Rapids and Iowa City
BEGIN:VTIMEZONE
TZID:UTC
BEGIN:STANDARD
TZOFFSETFROM:+0000
TZOFFSETTO:+0000
TZNAME:UTC
DTSTART:20210101T000000
END:STANDARD
END:VTIMEZONE
BEGIN:VEVENT
DTSTART;TZID=UTC:20210227T190000
DTEND;TZID=UTC:20210227T200000
DTSTAMP:20260422T204859
CREATED:20210202T161225Z
LAST-MODIFIED:20210202T161225Z
UID:2736-1614452400-1614456000@www.friendshipforcecr-ic.org
SUMMARY:Mystery Zoom Event: Murder at the Speakeasy
DESCRIPTION:Love a good mystery? Join us for the suspenseful yet fun evening to investigate a murder at a speakeasy after the world premier of the movie\, Forbidden Love. Sign up to have a part or be an observing character. Contact Audrey at audrey.b@mchsi.com \n
URL:http://www.friendshipforcecr-ic.org/event/mystery-zoom-event-murder-at-the-speakeasy/
END:VEVENT
END:VCALENDAR