BEGIN:VCALENDAR
VERSION:2.0
PRODID:-//Friendship Force Cedar Rapids and Iowa City - ECPv5.1.5//NONSGML v1.0//EN
CALSCALE:GREGORIAN
METHOD:PUBLISH
X-WR-CALNAME:Friendship Force Cedar Rapids and Iowa City
X-ORIGINAL-URL:http://www.friendshipforcecr-ic.org
X-WR-CALDESC:Events for Friendship Force Cedar Rapids and Iowa City
BEGIN:VTIMEZONE
TZID:UTC
BEGIN:STANDARD
TZOFFSETFROM:+0000
TZOFFSETTO:+0000
TZNAME:UTC
DTSTART:20180101T000000
END:STANDARD
END:VTIMEZONE
BEGIN:VEVENT
DTSTART;TZID=UTC:20180803T100000
DTEND;TZID=UTC:20180803T110000
DTSTAMP:20260420T045436
CREATED:20180703T172436Z
LAST-MODIFIED:20180703T172436Z
UID:2212-1533290400-1533294000@www.friendshipforcecr-ic.org
SUMMARY:Open World Meeting
DESCRIPTION:Help plan the Open World program from the Ukraine! \n
URL:http://www.friendshipforcecr-ic.org/event/open-world-meeting/
LOCATION:Culver’s Restaurant\, 1375 Red Fox Way\, Marion\, IA\, United States
END:VEVENT
END:VCALENDAR