BEGIN:VCALENDAR
VERSION:2.0
PRODID:-//Friendship Force Cedar Rapids and Iowa City - ECPv5.1.5//NONSGML v1.0//EN
CALSCALE:GREGORIAN
METHOD:PUBLISH
X-WR-CALNAME:Friendship Force Cedar Rapids and Iowa City
X-ORIGINAL-URL:http://www.friendshipforcecr-ic.org
X-WR-CALDESC:Events for Friendship Force Cedar Rapids and Iowa City
BEGIN:VTIMEZONE
TZID:UTC
BEGIN:STANDARD
TZOFFSETFROM:+0000
TZOFFSETTO:+0000
TZNAME:UTC
DTSTART:20140101T000000
END:STANDARD
END:VTIMEZONE
BEGIN:VEVENT
DTSTART;VALUE=DATE:20140721
DTEND;VALUE=DATE:20140728
DTSTAMP:20260422T095308
CREATED:20140331T013225Z
LAST-MODIFIED:20140331T013225Z
UID:451-1405900800-1406505599@www.friendshipforcecr-ic.org
SUMMARY:Outgoing Cincinnati Exchange
DESCRIPTION:Outgoing Exchange to Cincinnati\, OH (Underground Railroad Theme). Steve Wiliams is the ED. \n
URL:http://www.friendshipforcecr-ic.org/event/outgoing-cincinnati-journey/
LOCATION:Cincinnati Oh\, Cincinnati\, OH\, United States
END:VEVENT
END:VCALENDAR