BEGIN:VCALENDAR
VERSION:2.0
PRODID:-//Friendship Force Cedar Rapids and Iowa City - ECPv5.1.5//NONSGML v1.0//EN
CALSCALE:GREGORIAN
METHOD:PUBLISH
X-WR-CALNAME:Friendship Force Cedar Rapids and Iowa City
X-ORIGINAL-URL:http://www.friendshipforcecr-ic.org
X-WR-CALDESC:Events for Friendship Force Cedar Rapids and Iowa City
BEGIN:VTIMEZONE
TZID:UTC
BEGIN:STANDARD
TZOFFSETFROM:+0000
TZOFFSETTO:+0000
TZNAME:UTC
DTSTART:20150101T000000
END:STANDARD
END:VTIMEZONE
BEGIN:VEVENT
DTSTART;VALUE=DATE:20150715
DTEND;VALUE=DATE:20150722
DTSTAMP:20260422T161655
CREATED:20140702T200201Z
LAST-MODIFIED:20150522T155012Z
UID:722-1436918400-1437523199@www.friendshipforcecr-ic.org
SUMMARY:Outgoing Exchange to Mid-Willamette Valley\, Oregon
DESCRIPTION:Outgoing to Mid Willamette Valley\, Oregon\, July 15-21\, 2015 and an optional second week in Lower Columbia\, Washington. Marian Wetjen is journey director. Ambassadors are awaiting host information. \n  \nPlease see their site for more information about the club. \n
URL:http://www.friendshipforcecr-ic.org/event/outgoing-journey-to-mid-willamette-valley-oregon/
LOCATION:Oregon\, OR\, United States
END:VEVENT
END:VCALENDAR