BEGIN:VCALENDAR
VERSION:2.0
PRODID:-//Friendship Force Cedar Rapids and Iowa City - ECPv5.1.5//NONSGML v1.0//EN
CALSCALE:GREGORIAN
METHOD:PUBLISH
X-WR-CALNAME:Friendship Force Cedar Rapids and Iowa City
X-ORIGINAL-URL:http://www.friendshipforcecr-ic.org
X-WR-CALDESC:Events for Friendship Force Cedar Rapids and Iowa City
BEGIN:VTIMEZONE
TZID:UTC
BEGIN:STANDARD
TZOFFSETFROM:+0000
TZOFFSETTO:+0000
TZNAME:UTC
DTSTART:20170101T000000
END:STANDARD
END:VTIMEZONE
BEGIN:VEVENT
DTSTART;TZID=UTC:20171101T080000
DTEND;TZID=UTC:20171115T170000
DTSTAMP:20260423T082341
CREATED:20161025T202223Z
LAST-MODIFIED:20170706T154840Z
UID:1627-1509523200-1510765200@www.friendshipforcecr-ic.org
SUMMARY:Outgoing Journey to Taiwan
DESCRIPTION:Our club will be visiting Taiwan from November 1-15. Ambassador slots are filled however\, we are taking names for a waiting list. If you have always wanted to experience Taiwanese culture\, here is your chance. The first week will be with the Kaohsiung club beginning on November 1. Then we will travel by train to Taipei for a week with the Greater Taipei club. \nThe journey will include ambassadors from our club as well as Canada\, North Carolina\, Australia\, Des Moines and the Quad Cities. Cost is $900 plus air fare and travel insurance. Contact Mary Stull\, ambassador coordinator\, mcdstull@aol.com\, 319 393-6254. \n  \n  \n
URL:http://www.friendshipforcecr-ic.org/event/outgoing-journey-to-taiwan/
LOCATION:Unnamed Venue\, Taipei\, Taiwan
END:VEVENT
END:VCALENDAR