BEGIN:VCALENDAR
VERSION:2.0
PRODID:-//Friendship Force Cedar Rapids and Iowa City - ECPv5.1.5//NONSGML v1.0//EN
CALSCALE:GREGORIAN
METHOD:PUBLISH
X-WR-CALNAME:Friendship Force Cedar Rapids and Iowa City
X-ORIGINAL-URL:http://www.friendshipforcecr-ic.org
X-WR-CALDESC:Events for Friendship Force Cedar Rapids and Iowa City
BEGIN:VTIMEZONE
TZID:UTC
BEGIN:STANDARD
TZOFFSETFROM:+0000
TZOFFSETTO:+0000
TZNAME:UTC
DTSTART:20160101T000000
END:STANDARD
END:VTIMEZONE
BEGIN:VEVENT
DTSTART;VALUE=DATE:20160605
DTEND;VALUE=DATE:20160613
DTSTAMP:20260424T100137
CREATED:20141109T185652Z
LAST-MODIFIED:20160105T170510Z
UID:951-1465084800-1465775999@www.friendshipforcecr-ic.org
SUMMARY:Outgoing Exchange to Wessex\, UK
DESCRIPTION:Marian Wetjen is the Exchange Director for this journey. She will contact the first 16 people on the waiting list with additional details. If you would like to be added to or taken off the waiting list\, please contact Marian at mjwetjen27@yahoo.com. \nFor more information about this club click here. \n  \n
URL:http://www.friendshipforcecr-ic.org/event/outgoing-journey-to-wessex-uk/
LOCATION:Wessex\, UK\, Wessex\, United Kingdom
END:VEVENT
END:VCALENDAR