BEGIN:VCALENDAR
VERSION:2.0
PRODID:-//Friendship Force Cedar Rapids and Iowa City - ECPv5.1.5//NONSGML v1.0//EN
CALSCALE:GREGORIAN
METHOD:PUBLISH
X-WR-CALNAME:Friendship Force Cedar Rapids and Iowa City
X-ORIGINAL-URL:http://www.friendshipforcecr-ic.org
X-WR-CALDESC:Events for Friendship Force Cedar Rapids and Iowa City
BEGIN:VTIMEZONE
TZID:UTC
BEGIN:STANDARD
TZOFFSETFROM:+0000
TZOFFSETTO:+0000
TZNAME:UTC
DTSTART:20140101T000000
END:STANDARD
END:VTIMEZONE
BEGIN:VEVENT
DTSTART;VALUE=DATE:20141015
DTEND;VALUE=DATE:20141022
DTSTAMP:20260421T185412
CREATED:20140331T013454Z
LAST-MODIFIED:20140913T211256Z
UID:455-1413331200-1413935999@www.friendshipforcecr-ic.org
SUMMARY:Outgoing Sacramento Exchange
DESCRIPTION:Outgoing Exchange to Sacramento\, CA. Marian Wetjen is the ED.  For more information about their club go to their site. \n
URL:http://www.friendshipforcecr-ic.org/event/outgoing-sacramento-journey/
LOCATION:Sacramento\, CA\, Sacramento\, CA\, United States
END:VEVENT
END:VCALENDAR