BEGIN:VCALENDAR
VERSION:2.0
PRODID:-//Friendship Force Cedar Rapids and Iowa City - ECPv5.1.5//NONSGML v1.0//EN
CALSCALE:GREGORIAN
METHOD:PUBLISH
X-WR-CALNAME:Friendship Force Cedar Rapids and Iowa City
X-ORIGINAL-URL:http://www.friendshipforcecr-ic.org
X-WR-CALDESC:Events for Friendship Force Cedar Rapids and Iowa City
BEGIN:VTIMEZONE
TZID:UTC
BEGIN:STANDARD
TZOFFSETFROM:+0000
TZOFFSETTO:+0000
TZNAME:UTC
DTSTART:20140101T000000
END:STANDARD
END:VTIMEZONE
BEGIN:VEVENT
DTSTART;VALUE=DATE:20140914
DTEND;VALUE=DATE:20140915
DTSTAMP:20260421T233521
CREATED:20140331T013345Z
LAST-MODIFIED:20140331T013345Z
UID:454-1410652800-1410739199@www.friendshipforcecr-ic.org
SUMMARY:Road Rally
DESCRIPTION:
URL:http://www.friendshipforcecr-ic.org/event/road-rally/
END:VEVENT
END:VCALENDAR