BEGIN:VCALENDAR
VERSION:2.0
PRODID:-//Friendship Force Cedar Rapids and Iowa City - ECPv5.1.5//NONSGML v1.0//EN
CALSCALE:GREGORIAN
METHOD:PUBLISH
X-WR-CALNAME:Friendship Force Cedar Rapids and Iowa City
X-ORIGINAL-URL:http://www.friendshipforcecr-ic.org
X-WR-CALDESC:Events for Friendship Force Cedar Rapids and Iowa City
BEGIN:VTIMEZONE
TZID:UTC
BEGIN:STANDARD
TZOFFSETFROM:+0000
TZOFFSETTO:+0000
TZNAME:UTC
DTSTART:20210101T000000
END:STANDARD
END:VTIMEZONE
BEGIN:VEVENT
DTSTART;TZID=UTC:20210411T130000
DTEND;TZID=UTC:20210411T150000
DTSTAMP:20260423T073031
CREATED:20210401T215052Z
LAST-MODIFIED:20210410T180657Z
UID:2779-1618146000-1618153200@www.friendshipforcecr-ic.org
SUMMARY:DATE CHANGE now Sunday for Hiking with your Friendship Force friends
DESCRIPTION:Due to persistant rain on Saturday\, our First outing for our new Hiking Group. Meet at 1 pm on Sunday April 11 at the Tom Harkin Trailhead (formerly Camp Cardinal or Clear Creek Trailhead)\, 719 Camp Cardinal Blvd\, Coralville\, IA. If you were not signed up due to a conflict\, but Sunday works for you let me know. We would love to have you join us.  And as always bring a friend. The trail is a hard surface and the terrain is flat to some gentle hills. We are planning to hike 3-4 miles (hiker’s preference). We will experience wetlands with the frogs singing and a Handcart Emigration Area with Handcart Pioneer Campsite and Burial Grounds. \nContact Judy Frascht-Miner\, jjbm526@aol.com; 319 540-1701 or Nadine Stark\, cnwstark@gmail.com\, 319 350-6535 \nTrailhead link: https://www.coralville.org/Facilities/Facility/Details/Tom-Harkin-Trailhead-31 \nRestrooms will probably be closed.  The HyVee on HWY 6 in Coralville is close to the trailhead and is one possibility. After hiking we will meet at Christine Allen’s home for drinks\, snacks\, and restrooms.  Christine stays the wildflowers are starting to bloom. \n\n\n\n\n\n\n\n\n\n\n\n\n\n\n\n\n\n\n\n\n\n\n\n\n\n\n\n\n\n\n\n\n\n\n\n\n\n\n\n\n\n\n\n\n\n\n\n
URL:http://www.friendshipforcecr-ic.org/event/take-a-hike-come-hiking-with-your-friendship-force-friends/
LOCATION:Tom Harkin Trailhead\, 719 Camp Cardinal Blvd\, Coralville\, IA
CATEGORIES:Friendship Force Event
END:VEVENT
END:VCALENDAR