BEGIN:VCALENDAR
VERSION:2.0
PRODID:-//Friendship Force Cedar Rapids and Iowa City - ECPv5.1.5//NONSGML v1.0//EN
CALSCALE:GREGORIAN
METHOD:PUBLISH
X-WR-CALNAME:Friendship Force Cedar Rapids and Iowa City
X-ORIGINAL-URL:http://www.friendshipforcecr-ic.org
X-WR-CALDESC:Events for Friendship Force Cedar Rapids and Iowa City
BEGIN:VTIMEZONE
TZID:UTC
BEGIN:STANDARD
TZOFFSETFROM:+0000
TZOFFSETTO:+0000
TZNAME:UTC
DTSTART:20150101T000000
END:STANDARD
END:VTIMEZONE
BEGIN:VEVENT
DTSTART;TZID=UTC:20150806T080000
DTEND;TZID=UTC:20150808T170000
DTSTAMP:20260422T230730
CREATED:20150316T203229Z
LAST-MODIFIED:20151107T211111Z
UID:1207-1438848000-1439053200@www.friendshipforcecr-ic.org
SUMMARY:Quad Cities Incoming Exchange
DESCRIPTION:We will host members of the Quad City Club for a short journey. \n  \nThe itinerary includes: \nThursday\, August 6\n– Welcome Lunch at Moore’s\n– Grant Wood Studio\n– Stewart Memorial Library at Coe\n– Veterans Memorial Stained Glass Window\n–  City Hall Murals\n– Home hosted dinners \nFriday\, August 7\n– National Czech and Slovak Museum\n– Czech Village\n– NewBo District and Market\n– Cherry Building arts and crafts\n– Cedar Rapids Public Library\n– Cabaret in the Courtyard at Brucemore \nSaturday\, August 8\n– Morning with hosts\n– All Iowa Club Picnic at Noelridge – 11:30 to 3:30 \nPlease plan to participate in this journey. All club members are invited to:\n– Cabaret in the Courtyard and Brucemore – $18 per person\n– All Iowa Club Picnic – $12 per person. \nPlease contact Dale or Cheryl Moore at 319-362-6252 or mooredale@imonmail.com to sign up. \n
URL:http://www.friendshipforcecr-ic.org/event/tentative-incoming-journey-with-quad-cities/
LOCATION:Cedar Rapids\, Cedar Rapids\, IA\, United States
END:VEVENT
END:VCALENDAR