BEGIN:VCALENDAR
VERSION:2.0
PRODID:-//Friendship Force Cedar Rapids and Iowa City - ECPv5.1.5//NONSGML v1.0//EN
CALSCALE:GREGORIAN
METHOD:PUBLISH
X-WR-CALNAME:Friendship Force Cedar Rapids and Iowa City
X-ORIGINAL-URL:http://www.friendshipforcecr-ic.org
X-WR-CALDESC:Events for Friendship Force Cedar Rapids and Iowa City
BEGIN:VTIMEZONE
TZID:UTC
BEGIN:STANDARD
TZOFFSETFROM:+0000
TZOFFSETTO:+0000
TZNAME:UTC
DTSTART:20140101T000000
END:STANDARD
END:VTIMEZONE
BEGIN:VEVENT
DTSTART;TZID=UTC:20140817T120000
DTEND;TZID=UTC:20140817T160000
DTSTAMP:20260422T045347
CREATED:20140702T195651Z
LAST-MODIFIED:20140702T195651Z
UID:718-1408276800-1408291200@www.friendshipforcecr-ic.org
SUMMARY:Tri-Club Picnic
DESCRIPTION:Join the other Iowa Clubs for the Tri-Club Picnic\, hosted by the Dubuque Club.  It will be a great afternoon of food and fellowship. \n
URL:http://www.friendshipforcecr-ic.org/event/tri-club-picnic/
LOCATION:EB Lyons Nature Center\, Dubuque\, IA\, United States
END:VEVENT
END:VCALENDAR