BEGIN:VCALENDAR
VERSION:2.0
PRODID:-//Friendship Force Cedar Rapids and Iowa City - ECPv5.1.5//NONSGML v1.0//EN
CALSCALE:GREGORIAN
METHOD:PUBLISH
X-WR-CALNAME:Friendship Force Cedar Rapids and Iowa City
X-ORIGINAL-URL:http://www.friendshipforcecr-ic.org
X-WR-CALDESC:Events for Friendship Force Cedar Rapids and Iowa City
BEGIN:VTIMEZONE
TZID:UTC
BEGIN:STANDARD
TZOFFSETFROM:+0000
TZOFFSETTO:+0000
TZNAME:UTC
DTSTART:20210101T000000
END:STANDARD
END:VTIMEZONE
BEGIN:VEVENT
DTSTART;TZID=UTC:20210319T190000
DTEND;TZID=UTC:20210319T200000
DTSTAMP:20260423T020443
CREATED:20210228T201542Z
LAST-MODIFIED:20210228T201542Z
UID:2756-1616180400-1616184000@www.friendshipforcecr-ic.org
SUMMARY:Trivia Night via Zoom
DESCRIPTION:Another round of Zoom trivia awaits on Friday\, March 19. Test your knowledge of a wide range of the significant and insignificant. \n
URL:http://www.friendshipforcecr-ic.org/event/trivia-night-via-zoom/
LOCATION:Zoom
END:VEVENT
END:VCALENDAR