BEGIN:VCALENDAR
VERSION:2.0
PRODID:-//Friendship Force Cedar Rapids and Iowa City - ECPv5.1.5//NONSGML v1.0//EN
CALSCALE:GREGORIAN
METHOD:PUBLISH
X-WR-CALNAME:Friendship Force Cedar Rapids and Iowa City
X-ORIGINAL-URL:http://www.friendshipforcecr-ic.org
X-WR-CALDESC:Events for Friendship Force Cedar Rapids and Iowa City
BEGIN:VTIMEZONE
TZID:UTC
BEGIN:STANDARD
TZOFFSETFROM:+0000
TZOFFSETTO:+0000
TZNAME:UTC
DTSTART:20140101T000000
END:STANDARD
END:VTIMEZONE
BEGIN:VEVENT
DTSTART;VALUE=DATE:20140911
DTEND;VALUE=DATE:20140919
DTSTAMP:20260422T031619
CREATED:20140331T013319Z
LAST-MODIFIED:20140512T151312Z
UID:453-1410393600-1411084799@www.friendshipforcecr-ic.org
SUMMARY:United Kingdom Incoming Exchange
DESCRIPTION:Details TBD \n
URL:http://www.friendshipforcecr-ic.org/event/united-kingdom-incoming-journey/
END:VEVENT
END:VCALENDAR