BEGIN:VCALENDAR
VERSION:2.0
PRODID:-//Friendship Force Cedar Rapids and Iowa City - ECPv5.1.5//NONSGML v1.0//EN
CALSCALE:GREGORIAN
METHOD:PUBLISH
X-WR-CALNAME:Friendship Force Cedar Rapids and Iowa City
X-ORIGINAL-URL:http://www.friendshipforcecr-ic.org
X-WR-CALDESC:Events for Friendship Force Cedar Rapids and Iowa City
BEGIN:VTIMEZONE
TZID:UTC
BEGIN:STANDARD
TZOFFSETFROM:+0000
TZOFFSETTO:+0000
TZNAME:UTC
DTSTART:20210101T000000
END:STANDARD
END:VTIMEZONE
BEGIN:VEVENT
DTSTART;TZID=UTC:20210307T190000
DTEND;TZID=UTC:20210307T200000
DTSTAMP:20260422T223824
CREATED:20210202T163137Z
LAST-MODIFIED:20210202T163137Z
UID:2738-1615143600-1615147200@www.friendshipforcecr-ic.org
SUMMARY:World Friendship Day Zoom Meeting
DESCRIPTION:We are celebrating World Friendship Day with an international guest speaker. Kathy Hsu\, president of the Friendship Force of Kaohsiung\, Taiwan. Kathy has led journeys for her club and five global journeys\, which included Friendship Force members from around the world traveling together. RSVP required to: cmw1226@yahoo.com. \n
URL:http://www.friendshipforcecr-ic.org/event/world-friendship-day-zoom-meeting/
END:VEVENT
END:VCALENDAR