BEGIN:VCALENDAR
VERSION:2.0
PRODID:-//Friendship Force Cedar Rapids and Iowa City - ECPv5.1.5//NONSGML v1.0//EN
CALSCALE:GREGORIAN
METHOD:PUBLISH
X-WR-CALNAME:Friendship Force Cedar Rapids and Iowa City
X-ORIGINAL-URL:http://www.friendshipforcecr-ic.org
X-WR-CALDESC:Events for Friendship Force Cedar Rapids and Iowa City
BEGIN:VTIMEZONE
TZID:UTC
BEGIN:STANDARD
TZOFFSETFROM:+0000
TZOFFSETTO:+0000
TZNAME:UTC
DTSTART:20200101T000000
END:STANDARD
END:VTIMEZONE
BEGIN:VEVENT
DTSTART;TZID=UTC:20201120T190000
DTEND;TZID=UTC:20201120T200000
DTSTAMP:20260420T041554
CREATED:20201103T164118Z
LAST-MODIFIED:20201103T164238Z
UID:2666-1605898800-1605902400@www.friendshipforcecr-ic.org
SUMMARY:Zoom Trivia
DESCRIPTION:Join us for a fun evening of trivia with club members. Bring your favorite beverage and your knowledge of old and new bits of information. Guaranteed to give you both laughs and groans. Contact: Judy Miner\, jjbm526@aol.com\, to get a Zoom link to join the group. \n
URL:http://www.friendshipforcecr-ic.org/event/zoom-trivia/
LOCATION:Zoom
END:VEVENT
END:VCALENDAR