BEGIN:VCALENDAR
VERSION:2.0
PRODID:-//Friendship Force Cedar Rapids and Iowa City - ECPv5.1.5//NONSGML v1.0//EN
CALSCALE:GREGORIAN
METHOD:PUBLISH
X-WR-CALNAME:Friendship Force Cedar Rapids and Iowa City
X-ORIGINAL-URL:http://www.friendshipforcecr-ic.org
X-WR-CALDESC:Events for Friendship Force Cedar Rapids and Iowa City
BEGIN:VTIMEZONE
TZID:UTC
BEGIN:STANDARD
TZOFFSETFROM:+0000
TZOFFSETTO:+0000
TZNAME:UTC
DTSTART:20230101T000000
END:STANDARD
END:VTIMEZONE
BEGIN:VEVENT
DTSTART;TZID=UTC:20230825T100000
DTEND;TZID=UTC:20230825T120000
DTSTAMP:20260424T004758
CREATED:20230814T171817Z
LAST-MODIFIED:20230814T171843Z
UID:3543-1692957600-1692964800@www.friendshipforcecr-ic.org
SUMMARY:Hiking Outing\, August 25\, 2023
DESCRIPTION:Please mark your calendars for a hike at F. W. Kent Park near Oxford. We’ll meet at 10am Friday\, August 25 to explore the park then gather for lunch at a nearby restaurant. Watch for another email as we get closer to the date. We are looking forward to seeing you there!!  Jean Thomas\, Hiking Committee Chair\, 319-830-5092 \n
URL:http://www.friendshipforcecr-ic.org/event/hiking-outing-august-25-2023/
LOCATION:FW Kent State Park\, 2048 Hwy 6 NW\, Oxford\, IA\, United States
END:VEVENT
END:VCALENDAR