BEGIN:VCALENDAR
VERSION:2.0
PRODID:-//Friendship Force Cedar Rapids and Iowa City - ECPv5.1.5//NONSGML v1.0//EN
CALSCALE:GREGORIAN
METHOD:PUBLISH
X-WR-CALNAME:Friendship Force Cedar Rapids and Iowa City
X-ORIGINAL-URL:http://www.friendshipforcecr-ic.org
X-WR-CALDESC:Events for Friendship Force Cedar Rapids and Iowa City
BEGIN:VTIMEZONE
TZID:UTC
BEGIN:STANDARD
TZOFFSETFROM:+0000
TZOFFSETTO:+0000
TZNAME:UTC
DTSTART:20230101T000000
END:STANDARD
END:VTIMEZONE
BEGIN:VEVENT
DTSTART;TZID=UTC:20230906T080000
DTEND;TZID=UTC:20230906T170000
DTSTAMP:20260423T231307
CREATED:20230727T165907Z
LAST-MODIFIED:20230727T165907Z
UID:3529-1693987200-1694019600@www.friendshipforcecr-ic.org
SUMMARY:Let's Eat Out (LEO) September 6\, 2023
DESCRIPTION:Save the Date: September 6 Let’s Eat Out \nFall should bring cooler temperatures so our next Let’s Eat Out (LEO) will be a backyard picnic. On September 6\, Jerry and Carol Burke have invited us to their home\, 1113 Gales Avenue\, Manchester\, Iowa. We’ll gather for social time at 4:30 pm and eat at 5:30.  Jerry will send out a Sign Up Genius so you can order your sandwich and pay at the picnic. \n
URL:http://www.friendshipforcecr-ic.org/event/lets-eat-out-leo-september-6-2023/
END:VEVENT
END:VCALENDAR