BEGIN:VCALENDAR
VERSION:2.0
PRODID:-//Friendship Force Cedar Rapids and Iowa City - ECPv5.1.5//NONSGML v1.0//EN
CALSCALE:GREGORIAN
METHOD:PUBLISH
X-WR-CALNAME:Friendship Force Cedar Rapids and Iowa City
X-ORIGINAL-URL:http://www.friendshipforcecr-ic.org
X-WR-CALDESC:Events for Friendship Force Cedar Rapids and Iowa City
BEGIN:VTIMEZONE
TZID:UTC
BEGIN:STANDARD
TZOFFSETFROM:+0000
TZOFFSETTO:+0000
TZNAME:UTC
DTSTART:20230101T000000
END:STANDARD
END:VTIMEZONE
BEGIN:VEVENT
DTSTART;TZID=UTC:20231016T080000
DTEND;TZID=UTC:20231023T080000
DTSTAMP:20260423T213241
CREATED:20221004T161147Z
LAST-MODIFIED:20230727T184806Z
UID:3311-1697443200-1698048000@www.friendshipforcecr-ic.org
SUMMARY:Inbound from Edmonton & Area Canada
DESCRIPTION:The Edmonton and Area Club of Canada will be visiting\nus in October. Jim and Barb Steggall will be Host Coordinators.\nIf you are interested in helping on the planning\ncommittee\, home hosting\, day hosting\, or dinner hosting\nplease contact Jim at steggall.jim@gmail.com or Barb\nat bjsteggall@gmail.com. \n
URL:http://www.friendshipforcecr-ic.org/event/inbound-from-edmonton-canada/
END:VEVENT
END:VCALENDAR