BEGIN:VCALENDAR
VERSION:2.0
PRODID:-//Friendship Force Cedar Rapids and Iowa City - ECPv5.1.5//NONSGML v1.0//EN
CALSCALE:GREGORIAN
METHOD:PUBLISH
X-WR-CALNAME:Friendship Force Cedar Rapids and Iowa City
X-ORIGINAL-URL:http://www.friendshipforcecr-ic.org
X-WR-CALDESC:Events for Friendship Force Cedar Rapids and Iowa City
BEGIN:VTIMEZONE
TZID:UTC
BEGIN:STANDARD
TZOFFSETFROM:+0000
TZOFFSETTO:+0000
TZNAME:UTC
DTSTART:20230101T000000
END:STANDARD
END:VTIMEZONE
BEGIN:VEVENT
DTSTART;TZID=UTC:20231026T080000
DTEND;TZID=UTC:20231102T170000
DTSTAMP:20260423T213217
CREATED:20231005T224029Z
LAST-MODIFIED:20231005T224029Z
UID:3572-1698307200-1698944400@www.friendshipforcecr-ic.org
SUMMARY:American Leadership Experience (ALEX) Group
DESCRIPTION:The American Leadership Experience\, known as ALEX\, will again send participants our way. Nine young adults from Ukraine will be hosted by Friend-ship Force of Cedar Rapids – Iowa City from October 26 through November 2\, 2023. \n
URL:http://www.friendshipforcecr-ic.org/event/american-leadership-experience-alex-group/
END:VEVENT
BEGIN:VEVENT
DTSTART;TZID=UTC:20231028T193000
DTEND;TZID=UTC:20231028T213000
DTSTAMP:20260423T213217
CREATED:20231005T224306Z
LAST-MODIFIED:20231005T224306Z
UID:3574-1698521400-1698528600@www.friendshipforcecr-ic.org
SUMMARY:Orchestra Iowa Performance
DESCRIPTION:Orchestra Iowa will present Symphonic Sci-Fi at the Paramount Theatre on Saturday\, October 28. Our group of ALEX students from Ukraine will be in attendance. If you would like to join us\, please send your check to FF of CR-IC\, PO Box 1001\, Cedar Rapids\, IA 52401-1923 or give to Patty Potter\, before October 4th. The cost is $35 per ticket at this group rate\, a savings of $10 for each seat. \n
URL:http://www.friendshipforcecr-ic.org/event/orchestra-iowa-performance/
LOCATION:Paramount Theater\, Cedar Rapids
END:VEVENT
END:VCALENDAR