BEGIN:VCALENDAR
VERSION:2.0
PRODID:-//Friendship Force Cedar Rapids and Iowa City - ECPv5.1.5//NONSGML v1.0//EN
CALSCALE:GREGORIAN
METHOD:PUBLISH
X-WR-CALNAME:Friendship Force Cedar Rapids and Iowa City
X-ORIGINAL-URL:http://www.friendshipforcecr-ic.org
X-WR-CALDESC:Events for Friendship Force Cedar Rapids and Iowa City
BEGIN:VTIMEZONE
TZID:UTC
BEGIN:STANDARD
TZOFFSETFROM:+0000
TZOFFSETTO:+0000
TZNAME:UTC
DTSTART:20240101T000000
END:STANDARD
END:VTIMEZONE
BEGIN:VEVENT
DTSTART;TZID=UTC:20240121T150000
DTEND;TZID=UTC:20240121T150000
DTSTAMP:20260423T163314
CREATED:20240112T213415Z
LAST-MODIFIED:20240112T213415Z
UID:3637-1705849200-1705849200@www.friendshipforcecr-ic.org
SUMMARY:January 21 General Meeting on Zoom
DESCRIPTION:Our speaker is Allison Lindsey\, Friendship Force International Director of Member Engagement. She’ll be speaking about travel insurance\, something about which she has intimate knowledge. If you saw her article on the FFI website\, you read about her harrowing injury at last year’s World Conference in Croatia. She’ll also talk about the newly developing FF club in Kosovo as well as other new developments at FFI.\n\nThis is a Zoom meeting\, so find a comfy chair wherever you are and join us at 3 p.m. Iowa time Sunday\, Jan 21. A Sign-up Genius will follow in a few days so you can let us know if you’re planning to attend. Please join us!\nNancy York\nCR-IC Friendship Force President\n\nZoom link:\nNancy York is inviting you to a scheduled Zoom meeting. \nTopic: CR-IC FF Jan Genrl Mtg\nTime: Jan 21\, 2024 03:00 PM Central Time (US and Canada) \nJoin Zoom Meeting\nhttps://us02web.zoom.us/j/89761387247?pwd=Q2E3N3YrRjZDRlVQT3JzcVpOSEtIZz09 \nMeeting ID: 897 6138 7247\nPasscode: 540940 \n— \nOne tap mobile\n+13052241968\,\,89761387247#\,\,\,\,*540940# US\n+13092053325\,\,89761387247#\,\,\,\,*540940# US \n— \nDial by your location\n• +1 305 224 1968 US\n• +1 309 205 3325 US\n• +1 312 626 6799 US (Chicago)\n• +1 646 558 8656 US (New York)\n• +1 646 931 3860 US\n• +1 301 715 8592 US (Washington DC)\n• +1 669 444 9171 US\n• +1 669 900 9128 US (San Jose)\n• +1 689 278 1000 US\n• +1 719 359 4580 US\n• +1 253 205 0468 US\n• +1 253 215 8782 US (Tacoma)\n• +1 346 248 7799 US (Houston)\n• +1 360 209 5623 US\n• +1 386 347 5053 US\n• +1 507 473 4847 US\n• +1 564 217 2000 US \nMeeting ID: 897 6138 7247\nPasscode: 540940 \nFind your local number: https://us02web.zoom.us/u/kbgO3bGBg2\n
URL:http://www.friendshipforcecr-ic.org/event/january-21-general-meeting-on-zoom/
LOCATION:Zoom
END:VEVENT
END:VCALENDAR