BEGIN:VCALENDAR
VERSION:2.0
PRODID:-//Friendship Force Cedar Rapids and Iowa City - ECPv5.1.5//NONSGML v1.0//EN
CALSCALE:GREGORIAN
METHOD:PUBLISH
X-WR-CALNAME:Friendship Force Cedar Rapids and Iowa City
X-ORIGINAL-URL:http://www.friendshipforcecr-ic.org
X-WR-CALDESC:Events for Friendship Force Cedar Rapids and Iowa City
BEGIN:VTIMEZONE
TZID:UTC
BEGIN:STANDARD
TZOFFSETFROM:+0000
TZOFFSETTO:+0000
TZNAME:UTC
DTSTART:20240101T000000
END:STANDARD
END:VTIMEZONE
BEGIN:VEVENT
DTSTART;TZID=UTC:20240209T190000
DTEND;TZID=UTC:20240209T200000
DTSTAMP:20260423T150236
CREATED:20240202T155447Z
LAST-MODIFIED:20240202T155447Z
UID:3674-1707505200-1707508800@www.friendshipforcecr-ic.org
SUMMARY:Zoom Trivia
DESCRIPTION:Join us for another round of Zoom Trivia on Friday\, February 9 at 7 pm. This is a wonderful chance to show off you knowledge of information of little importance or value. \n
URL:http://www.friendshipforcecr-ic.org/event/zoom-trivia-15/
END:VEVENT
END:VCALENDAR