BEGIN:VCALENDAR
VERSION:2.0
PRODID:-//Friendship Force Cedar Rapids and Iowa City - ECPv5.1.5//NONSGML v1.0//EN
CALSCALE:GREGORIAN
METHOD:PUBLISH
X-WR-CALNAME:Friendship Force Cedar Rapids and Iowa City
X-ORIGINAL-URL:http://www.friendshipforcecr-ic.org
X-WR-CALDESC:Events for Friendship Force Cedar Rapids and Iowa City
BEGIN:VTIMEZONE
TZID:UTC
BEGIN:STANDARD
TZOFFSETFROM:+0000
TZOFFSETTO:+0000
TZNAME:UTC
DTSTART:20240101T000000
END:STANDARD
END:VTIMEZONE
BEGIN:VEVENT
DTSTART;TZID=UTC:20240225T130000
DTEND;TZID=UTC:20240225T160000
DTSTAMP:20260423T132317
CREATED:20240112T213518Z
LAST-MODIFIED:20240202T154827Z
UID:3640-1708866000-1708876800@www.friendshipforcecr-ic.org
SUMMARY:February 25 World Friendship Day Celebration
DESCRIPTION:We’ll celebrate World Friendship Day with a potluck lunch on\nSunday February 25 at Marion Christian Church\, 1050\nMcGowan BLVD\, Marion\, IA at 1:00pm. Guest speaker will be\nKirkwood College Assoc Dean of Global Learning\, Darek\nBenesh. He will talk about cultural adjustment for international students and immigrants. Join us for a fun and informative event and as always\, you are encouraged to bring your friends. \nA Signup Genius will be sent to gather the number of people & the dish you would like to bring. \n
URL:http://www.friendshipforcecr-ic.org/event/february-25-world-friendship-day-celebration/
END:VEVENT
END:VCALENDAR