BEGIN:VCALENDAR
VERSION:2.0
PRODID:-//Friendship Force Cedar Rapids and Iowa City - ECPv5.1.5//NONSGML v1.0//EN
CALSCALE:GREGORIAN
METHOD:PUBLISH
X-WR-CALNAME:Friendship Force Cedar Rapids and Iowa City
X-ORIGINAL-URL:http://www.friendshipforcecr-ic.org
X-WR-CALDESC:Events for Friendship Force Cedar Rapids and Iowa City
BEGIN:VTIMEZONE
TZID:UTC
BEGIN:STANDARD
TZOFFSETFROM:+0000
TZOFFSETTO:+0000
TZNAME:UTC
DTSTART:20240101T000000
END:STANDARD
END:VTIMEZONE
BEGIN:VEVENT
DTSTART;VALUE=DATE:20240315
DTEND;VALUE=DATE:20240324
DTSTAMP:20260423T132443
CREATED:20231104T140937Z
LAST-MODIFIED:20231204T204701Z
UID:3592-1710460800-1711238399@www.friendshipforcecr-ic.org
SUMMARY:Open World Delegates from Kosovo
DESCRIPTION:We will host delegates from Kosovo studying economic development for small and medium-sized municipalities. \n
URL:http://www.friendshipforcecr-ic.org/event/open-world-delegates-from-kosovo/
END:VEVENT
BEGIN:VEVENT
DTSTART;TZID=UTC:20240317T130000
DTEND;TZID=UTC:20240317T170000
DTSTAMP:20260423T132443
CREATED:20240202T154535Z
LAST-MODIFIED:20240202T154535Z
UID:3665-1710680400-1710694800@www.friendshipforcecr-ic.org
SUMMARY:St. Patrick's Day Parade and Dinner with Kosovo Delegates
DESCRIPTION:Sunday\, March 17\, 2024\, 1:00 PM Downtown Cedar Rapids Join Join the Fun! The 49th Annual SaPaDaPaSo St. Patrick’s Day parade celebration in downtown Cedar Rapids! \nAfterwards we will share a meal with the delegates from Kosovo. \n
URL:http://www.friendshipforcecr-ic.org/event/st-patricks-day-parade-and-dinner-with-kosovo-delegates/
END:VEVENT
END:VCALENDAR